BEGIN:VCALENDAR
VERSION:2.0
PRODID:-//TSV Wain e.V. 1920 - ECPv6.15.20//NONSGML v1.0//EN
CALSCALE:GREGORIAN
METHOD:PUBLISH
X-WR-CALNAME:TSV Wain e.V. 1920
X-ORIGINAL-URL:https://www.tsv-wain.de
X-WR-CALDESC:Veranstaltungen für TSV Wain e.V. 1920
REFRESH-INTERVAL;VALUE=DURATION:PT1H
X-Robots-Tag:noindex
X-PUBLISHED-TTL:PT1H
BEGIN:VTIMEZONE
TZID:Europe/Berlin
BEGIN:DAYLIGHT
TZOFFSETFROM:+0100
TZOFFSETTO:+0200
TZNAME:CEST
DTSTART:20160327T010000
END:DAYLIGHT
BEGIN:STANDARD
TZOFFSETFROM:+0200
TZOFFSETTO:+0100
TZNAME:CET
DTSTART:20161030T010000
END:STANDARD
BEGIN:DAYLIGHT
TZOFFSETFROM:+0100
TZOFFSETTO:+0200
TZNAME:CEST
DTSTART:20170326T010000
END:DAYLIGHT
BEGIN:STANDARD
TZOFFSETFROM:+0200
TZOFFSETTO:+0100
TZNAME:CET
DTSTART:20171029T010000
END:STANDARD
BEGIN:DAYLIGHT
TZOFFSETFROM:+0100
TZOFFSETTO:+0200
TZNAME:CEST
DTSTART:20180325T010000
END:DAYLIGHT
BEGIN:STANDARD
TZOFFSETFROM:+0200
TZOFFSETTO:+0100
TZNAME:CET
DTSTART:20181028T010000
END:STANDARD
BEGIN:DAYLIGHT
TZOFFSETFROM:+0100
TZOFFSETTO:+0200
TZNAME:CEST
DTSTART:20190331T010000
END:DAYLIGHT
BEGIN:STANDARD
TZOFFSETFROM:+0200
TZOFFSETTO:+0100
TZNAME:CET
DTSTART:20191027T010000
END:STANDARD
BEGIN:DAYLIGHT
TZOFFSETFROM:+0100
TZOFFSETTO:+0200
TZNAME:CEST
DTSTART:20200329T010000
END:DAYLIGHT
BEGIN:STANDARD
TZOFFSETFROM:+0200
TZOFFSETTO:+0100
TZNAME:CET
DTSTART:20201025T010000
END:STANDARD
BEGIN:DAYLIGHT
TZOFFSETFROM:+0100
TZOFFSETTO:+0200
TZNAME:CEST
DTSTART:20210328T010000
END:DAYLIGHT
BEGIN:STANDARD
TZOFFSETFROM:+0200
TZOFFSETTO:+0100
TZNAME:CET
DTSTART:20211031T010000
END:STANDARD
BEGIN:DAYLIGHT
TZOFFSETFROM:+0100
TZOFFSETTO:+0200
TZNAME:CEST
DTSTART:20220327T010000
END:DAYLIGHT
BEGIN:STANDARD
TZOFFSETFROM:+0200
TZOFFSETTO:+0100
TZNAME:CET
DTSTART:20221030T010000
END:STANDARD
END:VTIMEZONE
BEGIN:VEVENT
DTSTART;VALUE=DATE:20210918
DTEND;VALUE=DATE:20210919
DTSTAMP:20260424T233449
CREATED:20201228T134014Z
LAST-MODIFIED:20201228T134014Z
UID:1079-1631923200-1632009599@www.tsv-wain.de
SUMMARY:Altkleidersammlung
DESCRIPTION:
URL:https://www.tsv-wain.de/event/altkleidersammlung-2/
CATEGORIES:Fußball,TSV-Wain
END:VEVENT
BEGIN:VEVENT
DTSTART;VALUE=DATE:20210424
DTEND;VALUE=DATE:20210425
DTSTAMP:20260424T233449
CREATED:20201228T134143Z
LAST-MODIFIED:20201228T134143Z
UID:1081-1619222400-1619308799@www.tsv-wain.de
SUMMARY:Altkleidersammlung
DESCRIPTION:
URL:https://www.tsv-wain.de/event/altkleidersammlung-3/
CATEGORIES:Fußball,TSV-Wain
END:VEVENT
BEGIN:VEVENT
DTSTART;VALUE=DATE:20210226
DTEND;VALUE=DATE:20210227
DTSTAMP:20260424T233449
CREATED:20201228T123221Z
LAST-MODIFIED:20201228T123221Z
UID:1043-1614297600-1614383999@www.tsv-wain.de
SUMMARY:Abteilungsversammlung Abt.Fußball
DESCRIPTION:
URL:https://www.tsv-wain.de/event/abteilungsversammlung-abt-fussball/
LOCATION:Sportheim am Sportplatz\, Zieglerstraße 38\, Wain\, 88489\, Deutschland
CATEGORIES:Fußball,TSV-Wain
GEO:48.1823823;10.0110615
X-APPLE-STRUCTURED-LOCATION;VALUE=URI;X-ADDRESS=Sportheim am Sportplatz Zieglerstraße 38 Wain 88489 Deutschland;X-APPLE-RADIUS=500;X-TITLE=Zieglerstraße 38:geo:10.0110615,48.1823823
END:VEVENT
BEGIN:VEVENT
DTSTART;TZID=Europe/Berlin:20200112T130000
DTEND;TZID=Europe/Berlin:20200112T170000
DTSTAMP:20260424T233449
CREATED:20191230T133904Z
LAST-MODIFIED:20191230T133904Z
UID:948-1578834000-1578848400@www.tsv-wain.de
SUMMARY:Junior Hallencup 2020 - Bambinis
DESCRIPTION:2x 3 gegen 3 \nGespielt wird nach den Regeln des WFV.
URL:https://www.tsv-wain.de/event/junior-hallencup-2020-bambinis/
LOCATION:Mehrzweckhalle/Schule\, Schulstraße 7\, Wain\, 88489\, Deutschland
CATEGORIES:Fußball,TSV-Wain
GEO:48.18659;10.023
X-APPLE-STRUCTURED-LOCATION;VALUE=URI;X-ADDRESS=Mehrzweckhalle/Schule Schulstraße 7 Wain 88489 Deutschland;X-APPLE-RADIUS=500;X-TITLE=Schulstraße 7:geo:10.023,48.18659
END:VEVENT
BEGIN:VEVENT
DTSTART;TZID=Europe/Berlin:20200112T090000
DTEND;TZID=Europe/Berlin:20200112T130000
DTSTAMP:20260424T233449
CREATED:20191230T133756Z
LAST-MODIFIED:20191230T133756Z
UID:946-1578819600-1578834000@www.tsv-wain.de
SUMMARY:Junior Hallencup 2020 - F Jugend
DESCRIPTION:Gespielt wird nach den Regeln des WFV. \n 
URL:https://www.tsv-wain.de/event/junior-hallencup-2020-f-jugend/
LOCATION:Mehrzweckhalle/Schule\, Schulstraße 7\, Wain\, 88489\, Deutschland
CATEGORIES:Fußball,TSV-Wain
GEO:48.18659;10.023
X-APPLE-STRUCTURED-LOCATION;VALUE=URI;X-ADDRESS=Mehrzweckhalle/Schule Schulstraße 7 Wain 88489 Deutschland;X-APPLE-RADIUS=500;X-TITLE=Schulstraße 7:geo:10.023,48.18659
END:VEVENT
BEGIN:VEVENT
DTSTART;TZID=Europe/Berlin:20200111T130000
DTEND;TZID=Europe/Berlin:20200111T170000
DTSTAMP:20260424T233449
CREATED:20191230T133705Z
LAST-MODIFIED:20191230T133705Z
UID:944-1578747600-1578762000@www.tsv-wain.de
SUMMARY:Junior Hallencup 2020 - E Jugend
DESCRIPTION:Gespielt wird nach den Regeln des WFV.
URL:https://www.tsv-wain.de/event/junior-hallencup-2020-e-jugend/
LOCATION:Mehrzweckhalle/Schule\, Schulstraße 7\, Wain\, 88489\, Deutschland
CATEGORIES:Fußball,TSV-Wain
GEO:48.18659;10.023
X-APPLE-STRUCTURED-LOCATION;VALUE=URI;X-ADDRESS=Mehrzweckhalle/Schule Schulstraße 7 Wain 88489 Deutschland;X-APPLE-RADIUS=500;X-TITLE=Schulstraße 7:geo:10.023,48.18659
END:VEVENT
BEGIN:VEVENT
DTSTART;TZID=Europe/Berlin:20200111T090000
DTEND;TZID=Europe/Berlin:20200111T130000
DTSTAMP:20260424T233449
CREATED:20191230T133559Z
LAST-MODIFIED:20191230T133559Z
UID:941-1578733200-1578747600@www.tsv-wain.de
SUMMARY:Junior Hallencup 2020 - C Jugend
DESCRIPTION:Gespielt wird nach den Regeln des WFV.
URL:https://www.tsv-wain.de/event/junior-hallencup-2020-c-jugend/
LOCATION:Mehrzweckhalle/Schule\, Schulstraße 7\, Wain\, 88489\, Deutschland
CATEGORIES:Fußball,TSV-Wain
GEO:48.18659;10.023
X-APPLE-STRUCTURED-LOCATION;VALUE=URI;X-ADDRESS=Mehrzweckhalle/Schule Schulstraße 7 Wain 88489 Deutschland;X-APPLE-RADIUS=500;X-TITLE=Schulstraße 7:geo:10.023,48.18659
END:VEVENT
BEGIN:VEVENT
DTSTART;TZID=Europe/Berlin:20200110T130000
DTEND;TZID=Europe/Berlin:20200110T170000
DTSTAMP:20260424T233449
CREATED:20191230T133412Z
LAST-MODIFIED:20191230T133529Z
UID:939-1578661200-1578675600@www.tsv-wain.de
SUMMARY:Junior Hallencup 2020 - D Jugend
DESCRIPTION:Gespielt wird nach den Regeln des WFV. \n 
URL:https://www.tsv-wain.de/event/junior-hallencup-2020-d-jugend/
LOCATION:Mehrzweckhalle/Schule\, Schulstraße 7\, Wain\, 88489\, Deutschland
CATEGORIES:Fußball,TSV-Wain
GEO:48.18659;10.023
X-APPLE-STRUCTURED-LOCATION;VALUE=URI;X-ADDRESS=Mehrzweckhalle/Schule Schulstraße 7 Wain 88489 Deutschland;X-APPLE-RADIUS=500;X-TITLE=Schulstraße 7:geo:10.023,48.18659
END:VEVENT
BEGIN:VEVENT
DTSTART;TZID=Europe/Berlin:20171126T110000
DTEND;TZID=Europe/Berlin:20171126T170000
DTSTAMP:20260424T233449
CREATED:20171105T074428Z
LAST-MODIFIED:20180202T072059Z
UID:151-1511694000-1511715600@www.tsv-wain.de
SUMMARY:Rehessen 2017
DESCRIPTION:Rehbraten\, Rehgulasch\, Schnitzel\, Pommes usw.
URL:https://www.tsv-wain.de/event/rehessen-2017/
LOCATION:Sportheim am Sportplatz\, Zieglerstraße 38\, Wain\, 88489\, Deutschland
CATEGORIES:Veranstaltungen
GEO:48.1823823;10.0110615
X-APPLE-STRUCTURED-LOCATION;VALUE=URI;X-ADDRESS=Sportheim am Sportplatz Zieglerstraße 38 Wain 88489 Deutschland;X-APPLE-RADIUS=500;X-TITLE=Zieglerstraße 38:geo:10.0110615,48.1823823
END:VEVENT
END:VCALENDAR