BEGIN:VCALENDAR
VERSION:2.0
PRODID:-//TSV Wain e.V. 1920 - ECPv6.15.20//NONSGML v1.0//EN
CALSCALE:GREGORIAN
METHOD:PUBLISH
X-WR-CALNAME:TSV Wain e.V. 1920
X-ORIGINAL-URL:https://www.tsv-wain.de
X-WR-CALDESC:Veranstaltungen für TSV Wain e.V. 1920
REFRESH-INTERVAL;VALUE=DURATION:PT1H
X-Robots-Tag:noindex
X-PUBLISHED-TTL:PT1H
BEGIN:VTIMEZONE
TZID:Europe/Berlin
BEGIN:DAYLIGHT
TZOFFSETFROM:+0100
TZOFFSETTO:+0200
TZNAME:CEST
DTSTART:20160327T010000
END:DAYLIGHT
BEGIN:STANDARD
TZOFFSETFROM:+0200
TZOFFSETTO:+0100
TZNAME:CET
DTSTART:20161030T010000
END:STANDARD
BEGIN:DAYLIGHT
TZOFFSETFROM:+0100
TZOFFSETTO:+0200
TZNAME:CEST
DTSTART:20170326T010000
END:DAYLIGHT
BEGIN:STANDARD
TZOFFSETFROM:+0200
TZOFFSETTO:+0100
TZNAME:CET
DTSTART:20171029T010000
END:STANDARD
BEGIN:DAYLIGHT
TZOFFSETFROM:+0100
TZOFFSETTO:+0200
TZNAME:CEST
DTSTART:20180325T010000
END:DAYLIGHT
BEGIN:STANDARD
TZOFFSETFROM:+0200
TZOFFSETTO:+0100
TZNAME:CET
DTSTART:20181028T010000
END:STANDARD
BEGIN:DAYLIGHT
TZOFFSETFROM:+0100
TZOFFSETTO:+0200
TZNAME:CEST
DTSTART:20190331T010000
END:DAYLIGHT
BEGIN:STANDARD
TZOFFSETFROM:+0200
TZOFFSETTO:+0100
TZNAME:CET
DTSTART:20191027T010000
END:STANDARD
BEGIN:DAYLIGHT
TZOFFSETFROM:+0100
TZOFFSETTO:+0200
TZNAME:CEST
DTSTART:20200329T010000
END:DAYLIGHT
BEGIN:STANDARD
TZOFFSETFROM:+0200
TZOFFSETTO:+0100
TZNAME:CET
DTSTART:20201025T010000
END:STANDARD
BEGIN:DAYLIGHT
TZOFFSETFROM:+0100
TZOFFSETTO:+0200
TZNAME:CEST
DTSTART:20210328T010000
END:DAYLIGHT
BEGIN:STANDARD
TZOFFSETFROM:+0200
TZOFFSETTO:+0100
TZNAME:CET
DTSTART:20211031T010000
END:STANDARD
BEGIN:DAYLIGHT
TZOFFSETFROM:+0100
TZOFFSETTO:+0200
TZNAME:CEST
DTSTART:20220327T010000
END:DAYLIGHT
BEGIN:STANDARD
TZOFFSETFROM:+0200
TZOFFSETTO:+0100
TZNAME:CET
DTSTART:20221030T010000
END:STANDARD
BEGIN:DAYLIGHT
TZOFFSETFROM:+0100
TZOFFSETTO:+0200
TZNAME:CEST
DTSTART:20230326T010000
END:DAYLIGHT
BEGIN:STANDARD
TZOFFSETFROM:+0200
TZOFFSETTO:+0100
TZNAME:CET
DTSTART:20231029T010000
END:STANDARD
BEGIN:DAYLIGHT
TZOFFSETFROM:+0100
TZOFFSETTO:+0200
TZNAME:CEST
DTSTART:20240331T010000
END:DAYLIGHT
BEGIN:STANDARD
TZOFFSETFROM:+0200
TZOFFSETTO:+0100
TZNAME:CET
DTSTART:20241027T010000
END:STANDARD
BEGIN:DAYLIGHT
TZOFFSETFROM:+0100
TZOFFSETTO:+0200
TZNAME:CEST
DTSTART:20250330T010000
END:DAYLIGHT
BEGIN:STANDARD
TZOFFSETFROM:+0200
TZOFFSETTO:+0100
TZNAME:CET
DTSTART:20251026T010000
END:STANDARD
BEGIN:DAYLIGHT
TZOFFSETFROM:+0100
TZOFFSETTO:+0200
TZNAME:CEST
DTSTART:20260329T010000
END:DAYLIGHT
BEGIN:STANDARD
TZOFFSETFROM:+0200
TZOFFSETTO:+0100
TZNAME:CET
DTSTART:20261025T010000
END:STANDARD
BEGIN:DAYLIGHT
TZOFFSETFROM:+0100
TZOFFSETTO:+0200
TZNAME:CEST
DTSTART:20270328T010000
END:DAYLIGHT
BEGIN:STANDARD
TZOFFSETFROM:+0200
TZOFFSETTO:+0100
TZNAME:CET
DTSTART:20271031T010000
END:STANDARD
END:VTIMEZONE
BEGIN:VEVENT
DTSTART;TZID=Europe/Berlin:20260227T200000
DTEND;TZID=Europe/Berlin:20260227T213000
DTSTAMP:20260424T181955
CREATED:20260130T101739Z
LAST-MODIFIED:20260130T101739Z
UID:1652-1772222400-1772227800@www.tsv-wain.de
SUMMARY:Abteilungsversammlung Fußball
DESCRIPTION:
URL:https://www.tsv-wain.de/event/abteilungsversammlung-fussball-2/
LOCATION:Sportheim am Sportplatz\, Zieglerstraße 38\, Wain\, 88489\, Deutschland
CATEGORIES:Fußball
GEO:48.1823823;10.0110615
X-APPLE-STRUCTURED-LOCATION;VALUE=URI;X-ADDRESS=Sportheim am Sportplatz Zieglerstraße 38 Wain 88489 Deutschland;X-APPLE-RADIUS=500;X-TITLE=Zieglerstraße 38:geo:10.0110615,48.1823823
END:VEVENT
BEGIN:VEVENT
DTSTART;VALUE=DATE:20251123
DTEND;VALUE=DATE:20251124
DTSTAMP:20260424T181955
CREATED:20250204T181931Z
LAST-MODIFIED:20250204T181931Z
UID:1488-1763856000-1763942399@www.tsv-wain.de
SUMMARY:Rehessen TSV Wain
DESCRIPTION:
URL:https://www.tsv-wain.de/event/rehessen-tsv-wain/
LOCATION:Sportheim am Sportplatz\, Zieglerstraße 38\, Wain\, 88489\, Deutschland
CATEGORIES:Fußball,TSV-Wain
GEO:48.1823823;10.0110615
X-APPLE-STRUCTURED-LOCATION;VALUE=URI;X-ADDRESS=Sportheim am Sportplatz Zieglerstraße 38 Wain 88489 Deutschland;X-APPLE-RADIUS=500;X-TITLE=Zieglerstraße 38:geo:10.0110615,48.1823823
END:VEVENT
BEGIN:VEVENT
DTSTART;VALUE=DATE:20250920
DTEND;VALUE=DATE:20250921
DTSTAMP:20260424T181955
CREATED:20250204T190826Z
LAST-MODIFIED:20250204T190826Z
UID:1502-1758326400-1758412799@www.tsv-wain.de
SUMMARY:Altkleidersammlung TSV-Wain
DESCRIPTION:
URL:https://www.tsv-wain.de/event/altkleidersammlung-tsv-wain-2/
CATEGORIES:Fußball,TSV-Wain
END:VEVENT
BEGIN:VEVENT
DTSTART;VALUE=DATE:20250412
DTEND;VALUE=DATE:20250413
DTSTAMP:20260424T181955
CREATED:20250204T190703Z
LAST-MODIFIED:20250204T190703Z
UID:1500-1744416000-1744502399@www.tsv-wain.de
SUMMARY:Altkleidersammlung TSV-Wain
DESCRIPTION:
URL:https://www.tsv-wain.de/event/altkleidersammlung-tsv-wain/
END:VEVENT
BEGIN:VEVENT
DTSTART;VALUE=DATE:20250207
DTEND;VALUE=DATE:20250208
DTSTAMP:20260424T181955
CREATED:20250204T191354Z
LAST-MODIFIED:20250204T191354Z
UID:1504-1738886400-1738972799@www.tsv-wain.de
SUMMARY:Abteilungsversammlung Fußball
DESCRIPTION:
URL:https://www.tsv-wain.de/event/abteilungsversammlung-fussball/
LOCATION:Sportheim am Sportplatz\, Zieglerstraße 38\, Wain\, 88489\, Deutschland
CATEGORIES:Fußball,TSV-Wain
GEO:48.1823823;10.0110615
X-APPLE-STRUCTURED-LOCATION;VALUE=URI;X-ADDRESS=Sportheim am Sportplatz Zieglerstraße 38 Wain 88489 Deutschland;X-APPLE-RADIUS=500;X-TITLE=Zieglerstraße 38:geo:10.0110615,48.1823823
END:VEVENT
BEGIN:VEVENT
DTSTART;TZID=Europe/Berlin:20240128T100000
DTEND;TZID=Europe/Berlin:20240128T150000
DTSTAMP:20260424T181955
CREATED:20231212T150126Z
LAST-MODIFIED:20231212T151238Z
UID:1426-1706436000-1706454000@www.tsv-wain.de
SUMMARY:Fußball Bambini Hallenturnier
DESCRIPTION:Den genauen Ablauf am Turnier erfahren Sie von ihrem Jugendtrainer.
URL:https://www.tsv-wain.de/event/fussball-bambini-hallenturnier/
LOCATION:Mehrzweckhalle/Schule\, Schulstraße 7\, Wain\, 88489\, Deutschland
CATEGORIES:Fußball,Veranstaltungen
GEO:48.18659;10.023
X-APPLE-STRUCTURED-LOCATION;VALUE=URI;X-ADDRESS=Mehrzweckhalle/Schule Schulstraße 7 Wain 88489 Deutschland;X-APPLE-RADIUS=500;X-TITLE=Schulstraße 7:geo:10.023,48.18659
END:VEVENT
BEGIN:VEVENT
DTSTART;TZID=Europe/Berlin:20240121T130000
DTEND;TZID=Europe/Berlin:20240121T180000
DTSTAMP:20260424T181955
CREATED:20231212T145736Z
LAST-MODIFIED:20231212T150254Z
UID:1423-1705842000-1705860000@www.tsv-wain.de
SUMMARY:Fußball C-Jugend Hallenturnier
DESCRIPTION:Den genauen Ablauf am Turnier erfahren Sie von ihrem Jugendtrainer.
URL:https://www.tsv-wain.de/event/fussball-c-jugend-hallenturnier-2/
LOCATION:Mehrzweckhalle/Schule\, Schulstraße 7\, Wain\, 88489\, Deutschland
GEO:48.18659;10.023
X-APPLE-STRUCTURED-LOCATION;VALUE=URI;X-ADDRESS=Mehrzweckhalle/Schule Schulstraße 7 Wain 88489 Deutschland;X-APPLE-RADIUS=500;X-TITLE=Schulstraße 7:geo:10.023,48.18659
END:VEVENT
BEGIN:VEVENT
DTSTART;TZID=Europe/Berlin:20240121T130000
DTEND;TZID=Europe/Berlin:20240121T180000
DTSTAMP:20260424T181955
CREATED:20231212T145440Z
LAST-MODIFIED:20231212T151003Z
UID:1418-1705842000-1705860000@www.tsv-wain.de
SUMMARY:Fußball C-Jugend Hallenturnier
DESCRIPTION:Den genauen Ablauf am Turnier erfahren Sie von ihrem Jugendtrainer.
URL:https://www.tsv-wain.de/event/fussball-c-jugend-hallenturnier/
LOCATION:Mehrzweckhalle/Schule\, Schulstraße 7\, Wain\, 88489\, Deutschland
CATEGORIES:Fußball,Veranstaltungen
GEO:48.18659;10.023
X-APPLE-STRUCTURED-LOCATION;VALUE=URI;X-ADDRESS=Mehrzweckhalle/Schule Schulstraße 7 Wain 88489 Deutschland;X-APPLE-RADIUS=500;X-TITLE=Schulstraße 7:geo:10.023,48.18659
END:VEVENT
BEGIN:VEVENT
DTSTART;TZID=Europe/Berlin:20240121T080000
DTEND;TZID=Europe/Berlin:20240121T130000
DTSTAMP:20260424T181955
CREATED:20231212T145248Z
LAST-MODIFIED:20231212T150231Z
UID:1416-1705824000-1705842000@www.tsv-wain.de
SUMMARY:Fußball E-Jugend Hallenturnier
DESCRIPTION:Den genauen Ablauf am Turnier erfahren Sie von ihrem Jugendtrainer.
URL:https://www.tsv-wain.de/event/fussball-e-jugend-hallenturnier/
LOCATION:Mehrzweckhalle/Schule\, Schulstraße 7\, Wain\, 88489\, Deutschland
CATEGORIES:Fußball,Veranstaltungen
GEO:48.18659;10.023
X-APPLE-STRUCTURED-LOCATION;VALUE=URI;X-ADDRESS=Mehrzweckhalle/Schule Schulstraße 7 Wain 88489 Deutschland;X-APPLE-RADIUS=500;X-TITLE=Schulstraße 7:geo:10.023,48.18659
END:VEVENT
BEGIN:VEVENT
DTSTART;TZID=Europe/Berlin:20240120T130000
DTEND;TZID=Europe/Berlin:20240120T180000
DTSTAMP:20260424T181955
CREATED:20231212T144832Z
LAST-MODIFIED:20231212T150202Z
UID:1413-1705755600-1705773600@www.tsv-wain.de
SUMMARY:Fußball - D-Jugend - Hallenturnier
DESCRIPTION:Den genauen Ablauf am Turnier erfahren Sie von ihrem Jugendtrainer.
URL:https://www.tsv-wain.de/event/fussball-d-jugend-hallenturnier/
LOCATION:Mehrzweckhalle/Schule\, Schulstraße 7\, Wain\, 88489\, Deutschland
CATEGORIES:Fußball,Veranstaltungen
GEO:48.18659;10.023
X-APPLE-STRUCTURED-LOCATION;VALUE=URI;X-ADDRESS=Mehrzweckhalle/Schule Schulstraße 7 Wain 88489 Deutschland;X-APPLE-RADIUS=500;X-TITLE=Schulstraße 7:geo:10.023,48.18659
END:VEVENT
BEGIN:VEVENT
DTSTART;TZID=Europe/Berlin:20240120T080000
DTEND;TZID=Europe/Berlin:20240120T130000
DTSTAMP:20260424T181955
CREATED:20231212T144408Z
LAST-MODIFIED:20231212T150727Z
UID:1410-1705737600-1705755600@www.tsv-wain.de
SUMMARY:Fußball F-Jugend Hallenturnier
DESCRIPTION:Den genauen Ablauf am Turnier erfahren Sie von ihrem Jugendtrainer.
URL:https://www.tsv-wain.de/event/fussball-f-jugend-hallenturnier/
LOCATION:Mehrzweckhalle/Schule\, Schulstraße 7\, Wain\, 88489\, Deutschland
CATEGORIES:Fußball,Veranstaltungen
GEO:48.18659;10.023
X-APPLE-STRUCTURED-LOCATION;VALUE=URI;X-ADDRESS=Mehrzweckhalle/Schule Schulstraße 7 Wain 88489 Deutschland;X-APPLE-RADIUS=500;X-TITLE=Schulstraße 7:geo:10.023,48.18659
END:VEVENT
BEGIN:VEVENT
DTSTART;TZID=Europe/Berlin:20230916T080000
DTEND;TZID=Europe/Berlin:20230916T120000
DTSTAMP:20260424T181955
CREATED:20230713T091525Z
LAST-MODIFIED:20230713T091525Z
UID:1295-1694851200-1694865600@www.tsv-wain.de
SUMMARY:Altkleidersammlung
DESCRIPTION:Beachten Sie unbedingt die Hinweise\, die mit den Säcken verteilt werden. \nIn den durchsichtigen Säcken dürfen nur bestimmte Altkleider enthalten sein: \n\nAltschuhe \n(in separatem Sack) \n Tragbare Schuhe (paarweise)\n\n\nAltkleider (in separatem Sack) \n Tragbare Kleidung \n Unterwäsche (sauber)\n Stoffspielsachen\n Gardinen \n Taschen\n Gürtel\n\n\n Bettwäsche (in separatem Sack)\n Federbetten \n Weiße Stoffe\n\nBitte stellen Sie die gefüllten Säcke rechtzeitig an den Straßenrand. \nWir sammeln bei jeder Witterung.
URL:https://www.tsv-wain.de/event/altkleidersammlung-4/
LOCATION:Parkplatz Häwa
CATEGORIES:Fußball
END:VEVENT
BEGIN:VEVENT
DTSTART;TZID=Europe/Berlin:20230805T100000
DTEND;TZID=Europe/Berlin:20230805T130000
DTSTAMP:20260424T181955
CREATED:20230711T135245Z
LAST-MODIFIED:20230711T135245Z
UID:1273-1691229600-1691240400@www.tsv-wain.de
SUMMARY:Sommerferienprogramm - Jugendfußballtag
DESCRIPTION:Turn- und Sportverein – Fußball \n\nJugendfußballtag \n\nLasst euch vom Spaß am Fußball begeistern! \n\nFür Getränke und Snacks ist gesorgt!\nWann: Samstag\, 05. August 2023\n10:00 Uhr bis 13:00 Uhr\nWo: Sportplatz Wain\nWer: Kinder (Jungs und Mädchen)\nzwischen 5 und 12 Jahren\nKosten: keine \n\nMitzubringen: Sportbekleidung\, \nTurn- oder Fußballschuhe\nGute Laune und viel Lust auf Fußball \n\nAnmeldung: Rathaus\, mit beiliegender Anmeldung\nAnmeldeschluss: 28.07.2023\nInfo: Matthias Fuchs\, Tel.: 0179/2114325
URL:https://www.tsv-wain.de/event/sommerferienprogramm-jugendfussballtag/
LOCATION:Sportheim am Sportplatz\, Zieglerstraße 38\, Wain\, 88489\, Deutschland
CATEGORIES:Fußball
GEO:48.1823823;10.0110615
X-APPLE-STRUCTURED-LOCATION;VALUE=URI;X-ADDRESS=Sportheim am Sportplatz Zieglerstraße 38 Wain 88489 Deutschland;X-APPLE-RADIUS=500;X-TITLE=Zieglerstraße 38:geo:10.0110615,48.1823823
END:VEVENT
BEGIN:VEVENT
DTSTART;VALUE=DATE:20211121
DTEND;VALUE=DATE:20211122
DTSTAMP:20260424T181955
CREATED:20201228T125538Z
LAST-MODIFIED:20201228T125538Z
UID:1055-1637452800-1637539199@www.tsv-wain.de
SUMMARY:Rehessen
DESCRIPTION:
URL:https://www.tsv-wain.de/event/rehessen/
CATEGORIES:Fußball,TSV-Wain
END:VEVENT
BEGIN:VEVENT
DTSTART;VALUE=DATE:20211024
DTEND;VALUE=DATE:20211025
DTSTAMP:20260424T181955
CREATED:20201228T124937Z
LAST-MODIFIED:20201228T124937Z
UID:1051-1635033600-1635119999@www.tsv-wain.de
SUMMARY:Metzelsuppe
DESCRIPTION:
URL:https://www.tsv-wain.de/event/metzelsuppe/
LOCATION:Sportheim am Sportplatz\, Zieglerstraße 38\, Wain\, 88489\, Deutschland
CATEGORIES:Fußball,TSV-Wain
GEO:48.1823823;10.0110615
X-APPLE-STRUCTURED-LOCATION;VALUE=URI;X-ADDRESS=Sportheim am Sportplatz Zieglerstraße 38 Wain 88489 Deutschland;X-APPLE-RADIUS=500;X-TITLE=Zieglerstraße 38:geo:10.0110615,48.1823823
END:VEVENT
BEGIN:VEVENT
DTSTART;VALUE=DATE:20210918
DTEND;VALUE=DATE:20210919
DTSTAMP:20260424T181955
CREATED:20201228T134014Z
LAST-MODIFIED:20201228T134014Z
UID:1079-1631923200-1632009599@www.tsv-wain.de
SUMMARY:Altkleidersammlung
DESCRIPTION:
URL:https://www.tsv-wain.de/event/altkleidersammlung-2/
CATEGORIES:Fußball,TSV-Wain
END:VEVENT
BEGIN:VEVENT
DTSTART;VALUE=DATE:20210424
DTEND;VALUE=DATE:20210425
DTSTAMP:20260424T181955
CREATED:20201228T134143Z
LAST-MODIFIED:20201228T134143Z
UID:1081-1619222400-1619308799@www.tsv-wain.de
SUMMARY:Altkleidersammlung
DESCRIPTION:
URL:https://www.tsv-wain.de/event/altkleidersammlung-3/
CATEGORIES:Fußball,TSV-Wain
END:VEVENT
BEGIN:VEVENT
DTSTART;VALUE=DATE:20210226
DTEND;VALUE=DATE:20210227
DTSTAMP:20260424T181955
CREATED:20201228T123221Z
LAST-MODIFIED:20201228T123221Z
UID:1043-1614297600-1614383999@www.tsv-wain.de
SUMMARY:Abteilungsversammlung Abt.Fußball
DESCRIPTION:
URL:https://www.tsv-wain.de/event/abteilungsversammlung-abt-fussball/
LOCATION:Sportheim am Sportplatz\, Zieglerstraße 38\, Wain\, 88489\, Deutschland
CATEGORIES:Fußball,TSV-Wain
GEO:48.1823823;10.0110615
X-APPLE-STRUCTURED-LOCATION;VALUE=URI;X-ADDRESS=Sportheim am Sportplatz Zieglerstraße 38 Wain 88489 Deutschland;X-APPLE-RADIUS=500;X-TITLE=Zieglerstraße 38:geo:10.0110615,48.1823823
END:VEVENT
BEGIN:VEVENT
DTSTART;TZID=Europe/Berlin:20200112T130000
DTEND;TZID=Europe/Berlin:20200112T170000
DTSTAMP:20260424T181955
CREATED:20191230T133904Z
LAST-MODIFIED:20191230T133904Z
UID:948-1578834000-1578848400@www.tsv-wain.de
SUMMARY:Junior Hallencup 2020 - Bambinis
DESCRIPTION:2x 3 gegen 3 \nGespielt wird nach den Regeln des WFV.
URL:https://www.tsv-wain.de/event/junior-hallencup-2020-bambinis/
LOCATION:Mehrzweckhalle/Schule\, Schulstraße 7\, Wain\, 88489\, Deutschland
CATEGORIES:Fußball,TSV-Wain
GEO:48.18659;10.023
X-APPLE-STRUCTURED-LOCATION;VALUE=URI;X-ADDRESS=Mehrzweckhalle/Schule Schulstraße 7 Wain 88489 Deutschland;X-APPLE-RADIUS=500;X-TITLE=Schulstraße 7:geo:10.023,48.18659
END:VEVENT
BEGIN:VEVENT
DTSTART;TZID=Europe/Berlin:20200112T090000
DTEND;TZID=Europe/Berlin:20200112T130000
DTSTAMP:20260424T181955
CREATED:20191230T133756Z
LAST-MODIFIED:20191230T133756Z
UID:946-1578819600-1578834000@www.tsv-wain.de
SUMMARY:Junior Hallencup 2020 - F Jugend
DESCRIPTION:Gespielt wird nach den Regeln des WFV. \n 
URL:https://www.tsv-wain.de/event/junior-hallencup-2020-f-jugend/
LOCATION:Mehrzweckhalle/Schule\, Schulstraße 7\, Wain\, 88489\, Deutschland
CATEGORIES:Fußball,TSV-Wain
GEO:48.18659;10.023
X-APPLE-STRUCTURED-LOCATION;VALUE=URI;X-ADDRESS=Mehrzweckhalle/Schule Schulstraße 7 Wain 88489 Deutschland;X-APPLE-RADIUS=500;X-TITLE=Schulstraße 7:geo:10.023,48.18659
END:VEVENT
BEGIN:VEVENT
DTSTART;TZID=Europe/Berlin:20200111T130000
DTEND;TZID=Europe/Berlin:20200111T170000
DTSTAMP:20260424T181955
CREATED:20191230T133705Z
LAST-MODIFIED:20191230T133705Z
UID:944-1578747600-1578762000@www.tsv-wain.de
SUMMARY:Junior Hallencup 2020 - E Jugend
DESCRIPTION:Gespielt wird nach den Regeln des WFV.
URL:https://www.tsv-wain.de/event/junior-hallencup-2020-e-jugend/
LOCATION:Mehrzweckhalle/Schule\, Schulstraße 7\, Wain\, 88489\, Deutschland
CATEGORIES:Fußball,TSV-Wain
GEO:48.18659;10.023
X-APPLE-STRUCTURED-LOCATION;VALUE=URI;X-ADDRESS=Mehrzweckhalle/Schule Schulstraße 7 Wain 88489 Deutschland;X-APPLE-RADIUS=500;X-TITLE=Schulstraße 7:geo:10.023,48.18659
END:VEVENT
BEGIN:VEVENT
DTSTART;TZID=Europe/Berlin:20200111T090000
DTEND;TZID=Europe/Berlin:20200111T130000
DTSTAMP:20260424T181955
CREATED:20191230T133559Z
LAST-MODIFIED:20191230T133559Z
UID:941-1578733200-1578747600@www.tsv-wain.de
SUMMARY:Junior Hallencup 2020 - C Jugend
DESCRIPTION:Gespielt wird nach den Regeln des WFV.
URL:https://www.tsv-wain.de/event/junior-hallencup-2020-c-jugend/
LOCATION:Mehrzweckhalle/Schule\, Schulstraße 7\, Wain\, 88489\, Deutschland
CATEGORIES:Fußball,TSV-Wain
GEO:48.18659;10.023
X-APPLE-STRUCTURED-LOCATION;VALUE=URI;X-ADDRESS=Mehrzweckhalle/Schule Schulstraße 7 Wain 88489 Deutschland;X-APPLE-RADIUS=500;X-TITLE=Schulstraße 7:geo:10.023,48.18659
END:VEVENT
BEGIN:VEVENT
DTSTART;TZID=Europe/Berlin:20200110T130000
DTEND;TZID=Europe/Berlin:20200110T170000
DTSTAMP:20260424T181955
CREATED:20191230T133412Z
LAST-MODIFIED:20191230T133529Z
UID:939-1578661200-1578675600@www.tsv-wain.de
SUMMARY:Junior Hallencup 2020 - D Jugend
DESCRIPTION:Gespielt wird nach den Regeln des WFV. \n 
URL:https://www.tsv-wain.de/event/junior-hallencup-2020-d-jugend/
LOCATION:Mehrzweckhalle/Schule\, Schulstraße 7\, Wain\, 88489\, Deutschland
CATEGORIES:Fußball,TSV-Wain
GEO:48.18659;10.023
X-APPLE-STRUCTURED-LOCATION;VALUE=URI;X-ADDRESS=Mehrzweckhalle/Schule Schulstraße 7 Wain 88489 Deutschland;X-APPLE-RADIUS=500;X-TITLE=Schulstraße 7:geo:10.023,48.18659
END:VEVENT
BEGIN:VEVENT
DTSTART;TZID=Europe/Berlin:20171126T110000
DTEND;TZID=Europe/Berlin:20171126T170000
DTSTAMP:20260424T181955
CREATED:20171105T074428Z
LAST-MODIFIED:20180202T072059Z
UID:151-1511694000-1511715600@www.tsv-wain.de
SUMMARY:Rehessen 2017
DESCRIPTION:Rehbraten\, Rehgulasch\, Schnitzel\, Pommes usw.
URL:https://www.tsv-wain.de/event/rehessen-2017/
LOCATION:Sportheim am Sportplatz\, Zieglerstraße 38\, Wain\, 88489\, Deutschland
CATEGORIES:Veranstaltungen
GEO:48.1823823;10.0110615
X-APPLE-STRUCTURED-LOCATION;VALUE=URI;X-ADDRESS=Sportheim am Sportplatz Zieglerstraße 38 Wain 88489 Deutschland;X-APPLE-RADIUS=500;X-TITLE=Zieglerstraße 38:geo:10.0110615,48.1823823
END:VEVENT
END:VCALENDAR