BEGIN:VCALENDAR
VERSION:2.0
PRODID:-//TSV Wain e.V. 1920 - ECPv6.15.20//NONSGML v1.0//EN
CALSCALE:GREGORIAN
METHOD:PUBLISH
X-WR-CALNAME:TSV Wain e.V. 1920
X-ORIGINAL-URL:https://www.tsv-wain.de
X-WR-CALDESC:Veranstaltungen für TSV Wain e.V. 1920
REFRESH-INTERVAL;VALUE=DURATION:PT1H
X-Robots-Tag:noindex
X-PUBLISHED-TTL:PT1H
BEGIN:VTIMEZONE
TZID:Europe/Berlin
BEGIN:DAYLIGHT
TZOFFSETFROM:+0100
TZOFFSETTO:+0200
TZNAME:CEST
DTSTART:20220327T010000
END:DAYLIGHT
BEGIN:STANDARD
TZOFFSETFROM:+0200
TZOFFSETTO:+0100
TZNAME:CET
DTSTART:20221030T010000
END:STANDARD
BEGIN:DAYLIGHT
TZOFFSETFROM:+0100
TZOFFSETTO:+0200
TZNAME:CEST
DTSTART:20230326T010000
END:DAYLIGHT
BEGIN:STANDARD
TZOFFSETFROM:+0200
TZOFFSETTO:+0100
TZNAME:CET
DTSTART:20231029T010000
END:STANDARD
BEGIN:DAYLIGHT
TZOFFSETFROM:+0100
TZOFFSETTO:+0200
TZNAME:CEST
DTSTART:20240331T010000
END:DAYLIGHT
BEGIN:STANDARD
TZOFFSETFROM:+0200
TZOFFSETTO:+0100
TZNAME:CET
DTSTART:20241027T010000
END:STANDARD
END:VTIMEZONE
BEGIN:VEVENT
DTSTART;TZID=Europe/Berlin:20230801T090000
DTEND;TZID=Europe/Berlin:20230801T150000
DTSTAMP:20260420T100737
CREATED:20230711T133450Z
LAST-MODIFIED:20230711T133450Z
UID:1270-1690880400-1690902000@www.tsv-wain.de
SUMMARY:Sommerferienprogramm - Klettergarten
DESCRIPTION:Klettergarten\nKletterspaß in Biberach! \nWann: Dienstag\, 01. August 2023\n09:00 Uhr bis ca. 14:30 Uhr\nWo: Treffpunkt Gemeindehaus Wain\nWer: 40 Kinder ab 7 Jahren\nKosten: 14\,00 € \nMitzubringen: festes Schuhwerk\, \nSportbekleidung; für Essen und\nTrinken muss selbst gesorgt werden. \nAnmeldung: Rathaus\, mit beiliegender Anmeldung\nAnmeldeschluss: 31.07.2023\nInfo: Monika Stock\, Tel.: 07353/2262 \nLiebe Eltern\, \nbitte unterschreiben Sie die \nKlettereinwilligung! Das Formular erhalten\nSie bei der Anmeldung im Rathaus.\nBei Regen fällt das Klettern aus!
URL:https://www.tsv-wain.de/event/sommerferienprogramm-klettergarten/
LOCATION:Kletterwald Biberach
CATEGORIES:Turnen
END:VEVENT
BEGIN:VEVENT
DTSTART;TZID=Europe/Berlin:20230805T100000
DTEND;TZID=Europe/Berlin:20230805T130000
DTSTAMP:20260420T100737
CREATED:20230711T135245Z
LAST-MODIFIED:20230711T135245Z
UID:1273-1691229600-1691240400@www.tsv-wain.de
SUMMARY:Sommerferienprogramm - Jugendfußballtag
DESCRIPTION:Turn- und Sportverein – Fußball \n\nJugendfußballtag \n\nLasst euch vom Spaß am Fußball begeistern! \n\nFür Getränke und Snacks ist gesorgt!\nWann: Samstag\, 05. August 2023\n10:00 Uhr bis 13:00 Uhr\nWo: Sportplatz Wain\nWer: Kinder (Jungs und Mädchen)\nzwischen 5 und 12 Jahren\nKosten: keine \n\nMitzubringen: Sportbekleidung\, \nTurn- oder Fußballschuhe\nGute Laune und viel Lust auf Fußball \n\nAnmeldung: Rathaus\, mit beiliegender Anmeldung\nAnmeldeschluss: 28.07.2023\nInfo: Matthias Fuchs\, Tel.: 0179/2114325
URL:https://www.tsv-wain.de/event/sommerferienprogramm-jugendfussballtag/
LOCATION:Sportheim am Sportplatz\, Zieglerstraße 38\, Wain\, 88489\, Deutschland
CATEGORIES:Fußball
GEO:48.1823823;10.0110615
X-APPLE-STRUCTURED-LOCATION;VALUE=URI;X-ADDRESS=Sportheim am Sportplatz Zieglerstraße 38 Wain 88489 Deutschland;X-APPLE-RADIUS=500;X-TITLE=Zieglerstraße 38:geo:10.0110615,48.1823823
END:VEVENT
BEGIN:VEVENT
DTSTART;TZID=Europe/Berlin:20230809T083000
DTEND;TZID=Europe/Berlin:20230809T163000
DTSTAMP:20260420T100737
CREATED:20230713T083759Z
LAST-MODIFIED:20230713T083923Z
UID:1285-1691569800-1691598600@www.tsv-wain.de
SUMMARY:Sommerferienprogramm - Abenteuer Mini-Golf
DESCRIPTION:Abenteuer – Mini Golf in Pfullendorf \n\nUm einen tollen Tag auf der Mini-Golf-Anlage zu\nerleben\, fahren wir mit dem Bus nach Pfullendorf! \n\nWir freuen uns auf Euch! \n\nWann: Mittwoch\, 09. August 2023 08:30 Uhr bis 16:30 Uhr\nWo: Treffpunkt Gemeindehaus\nWer: ab 6 Jahre und älter\, max. 30 Personen\nKosten: 9\,00 €\nMitzubringen: Vesper und Trinken\nAnmeldung: Rathaus mit beiliegender Anmeldung\nInfo: Monika Stock\, Tel.: 07353/2262 \n\nLiebe Eltern\,\nbitte unterschreiben Sie die Einwilligungserklärung\,\ndass die Kinder alleine in der Minigolfanlage laufen\ndürfen. Das Formular erhalten Sie bei der Anmeldung im\nRathaus.\nBei strömenden Regen fällt das Minigolfen aus!
URL:https://www.tsv-wain.de/event/sommerferienprogramm-abenteuer-mini-golf/
END:VEVENT
END:VCALENDAR