BEGIN:VCALENDAR
VERSION:2.0
PRODID:-//TSV Wain e.V. 1920 - ECPv6.15.20//NONSGML v1.0//EN
CALSCALE:GREGORIAN
METHOD:PUBLISH
X-WR-CALNAME:TSV Wain e.V. 1920
X-ORIGINAL-URL:https://www.tsv-wain.de
X-WR-CALDESC:Veranstaltungen für TSV Wain e.V. 1920
REFRESH-INTERVAL;VALUE=DURATION:PT1H
X-Robots-Tag:noindex
X-PUBLISHED-TTL:PT1H
BEGIN:VTIMEZONE
TZID:Europe/Berlin
BEGIN:DAYLIGHT
TZOFFSETFROM:+0100
TZOFFSETTO:+0200
TZNAME:CEST
DTSTART:20220327T010000
END:DAYLIGHT
BEGIN:STANDARD
TZOFFSETFROM:+0200
TZOFFSETTO:+0100
TZNAME:CET
DTSTART:20221030T010000
END:STANDARD
BEGIN:DAYLIGHT
TZOFFSETFROM:+0100
TZOFFSETTO:+0200
TZNAME:CEST
DTSTART:20230326T010000
END:DAYLIGHT
BEGIN:STANDARD
TZOFFSETFROM:+0200
TZOFFSETTO:+0100
TZNAME:CET
DTSTART:20231029T010000
END:STANDARD
BEGIN:DAYLIGHT
TZOFFSETFROM:+0100
TZOFFSETTO:+0200
TZNAME:CEST
DTSTART:20240331T010000
END:DAYLIGHT
BEGIN:STANDARD
TZOFFSETFROM:+0200
TZOFFSETTO:+0100
TZNAME:CET
DTSTART:20241027T010000
END:STANDARD
END:VTIMEZONE
BEGIN:VEVENT
DTSTART;TZID=Europe/Berlin:20230916T080000
DTEND;TZID=Europe/Berlin:20230916T120000
DTSTAMP:20260420T101041
CREATED:20230713T091525Z
LAST-MODIFIED:20230713T091525Z
UID:1295-1694851200-1694865600@www.tsv-wain.de
SUMMARY:Altkleidersammlung
DESCRIPTION:Beachten Sie unbedingt die Hinweise\, die mit den Säcken verteilt werden. \nIn den durchsichtigen Säcken dürfen nur bestimmte Altkleider enthalten sein: \n\nAltschuhe \n(in separatem Sack) \n Tragbare Schuhe (paarweise)\n\n\nAltkleider (in separatem Sack) \n Tragbare Kleidung \n Unterwäsche (sauber)\n Stoffspielsachen\n Gardinen \n Taschen\n Gürtel\n\n\n Bettwäsche (in separatem Sack)\n Federbetten \n Weiße Stoffe\n\nBitte stellen Sie die gefüllten Säcke rechtzeitig an den Straßenrand. \nWir sammeln bei jeder Witterung.
URL:https://www.tsv-wain.de/event/altkleidersammlung-4/
LOCATION:Parkplatz Häwa
CATEGORIES:Fußball
END:VEVENT
END:VCALENDAR