BEGIN:VCALENDAR
VERSION:2.0
PRODID:-//TSV Wain e.V. 1920 - ECPv6.15.20//NONSGML v1.0//EN
CALSCALE:GREGORIAN
METHOD:PUBLISH
X-ORIGINAL-URL:https://www.tsv-wain.de
X-WR-CALDESC:Veranstaltungen für TSV Wain e.V. 1920
REFRESH-INTERVAL;VALUE=DURATION:PT1H
X-Robots-Tag:noindex
X-PUBLISHED-TTL:PT1H
BEGIN:VTIMEZONE
TZID:Europe/Berlin
BEGIN:DAYLIGHT
TZOFFSETFROM:+0100
TZOFFSETTO:+0200
TZNAME:CEST
DTSTART:20220327T010000
END:DAYLIGHT
BEGIN:STANDARD
TZOFFSETFROM:+0200
TZOFFSETTO:+0100
TZNAME:CET
DTSTART:20221030T010000
END:STANDARD
BEGIN:DAYLIGHT
TZOFFSETFROM:+0100
TZOFFSETTO:+0200
TZNAME:CEST
DTSTART:20230326T010000
END:DAYLIGHT
BEGIN:STANDARD
TZOFFSETFROM:+0200
TZOFFSETTO:+0100
TZNAME:CET
DTSTART:20231029T010000
END:STANDARD
BEGIN:DAYLIGHT
TZOFFSETFROM:+0100
TZOFFSETTO:+0200
TZNAME:CEST
DTSTART:20240331T010000
END:DAYLIGHT
BEGIN:STANDARD
TZOFFSETFROM:+0200
TZOFFSETTO:+0100
TZNAME:CET
DTSTART:20241027T010000
END:STANDARD
END:VTIMEZONE
BEGIN:VEVENT
DTSTART;TZID=Europe/Berlin:20230902T140000
DTEND;TZID=Europe/Berlin:20230902T153000
DTSTAMP:20260420T102229
CREATED:20230713T084338Z
LAST-MODIFIED:20230713T084338Z
UID:1288-1693663200-1693668600@www.tsv-wain.de
SUMMARY:Sommerferienprogramm - Leichtathletik Tag
DESCRIPTION:Turn- und Sportverein – Leichtathletik \n\nSpiel und Spaß rund um die Leichtathletik\nKomm mit uns auf die Sportanlage. \nFür Getränke ist gesorgt! \n\nWann: Samstag\, 02.09.2023 14:00 Uhr bis 15:30 Uhr\nWo: Leichtathletik Sportanlagen (Treffpunkt Fußball Vereinsheim)\nWer: alle im Alter von 6 – 12 Jahren\nKosten: keine\nMitzubringen: Sportkleidung\, Sportschuhe und viel gute Laune\nAnmeldung: Rathaus\, mit beiliegender Anmeldung\nAnmeldeschluss: 18.08.2023 \n\nInfo: Klaus Held\, Tel.: 0152/02154968\nStefanie Bopp\, Tel.: 0176/44486642
URL:https://www.tsv-wain.de/event/sommerferienprogramm-leichtathletik-tag/
END:VEVENT
END:VCALENDAR