BEGIN:VCALENDAR
VERSION:2.0
PRODID:-//TSV Wain e.V. 1920 - ECPv6.15.20//NONSGML v1.0//EN
CALSCALE:GREGORIAN
METHOD:PUBLISH
X-ORIGINAL-URL:https://www.tsv-wain.de
X-WR-CALDESC:Veranstaltungen für TSV Wain e.V. 1920
REFRESH-INTERVAL;VALUE=DURATION:PT1H
X-Robots-Tag:noindex
X-PUBLISHED-TTL:PT1H
BEGIN:VTIMEZONE
TZID:Europe/Berlin
BEGIN:DAYLIGHT
TZOFFSETFROM:+0100
TZOFFSETTO:+0200
TZNAME:CEST
DTSTART:20220327T010000
END:DAYLIGHT
BEGIN:STANDARD
TZOFFSETFROM:+0200
TZOFFSETTO:+0100
TZNAME:CET
DTSTART:20221030T010000
END:STANDARD
BEGIN:DAYLIGHT
TZOFFSETFROM:+0100
TZOFFSETTO:+0200
TZNAME:CEST
DTSTART:20230326T010000
END:DAYLIGHT
BEGIN:STANDARD
TZOFFSETFROM:+0200
TZOFFSETTO:+0100
TZNAME:CET
DTSTART:20231029T010000
END:STANDARD
BEGIN:DAYLIGHT
TZOFFSETFROM:+0100
TZOFFSETTO:+0200
TZNAME:CEST
DTSTART:20240331T010000
END:DAYLIGHT
BEGIN:STANDARD
TZOFFSETFROM:+0200
TZOFFSETTO:+0100
TZNAME:CET
DTSTART:20241027T010000
END:STANDARD
END:VTIMEZONE
BEGIN:VEVENT
DTSTART;TZID=Europe/Berlin:20230809T083000
DTEND;TZID=Europe/Berlin:20230809T163000
DTSTAMP:20260420T134901
CREATED:20230713T083759Z
LAST-MODIFIED:20230713T083923Z
UID:1285-1691569800-1691598600@www.tsv-wain.de
SUMMARY:Sommerferienprogramm - Abenteuer Mini-Golf
DESCRIPTION:Abenteuer – Mini Golf in Pfullendorf \n\nUm einen tollen Tag auf der Mini-Golf-Anlage zu\nerleben\, fahren wir mit dem Bus nach Pfullendorf! \n\nWir freuen uns auf Euch! \n\nWann: Mittwoch\, 09. August 2023 08:30 Uhr bis 16:30 Uhr\nWo: Treffpunkt Gemeindehaus\nWer: ab 6 Jahre und älter\, max. 30 Personen\nKosten: 9\,00 €\nMitzubringen: Vesper und Trinken\nAnmeldung: Rathaus mit beiliegender Anmeldung\nInfo: Monika Stock\, Tel.: 07353/2262 \n\nLiebe Eltern\,\nbitte unterschreiben Sie die Einwilligungserklärung\,\ndass die Kinder alleine in der Minigolfanlage laufen\ndürfen. Das Formular erhalten Sie bei der Anmeldung im\nRathaus.\nBei strömenden Regen fällt das Minigolfen aus!
URL:https://www.tsv-wain.de/event/sommerferienprogramm-abenteuer-mini-golf/
END:VEVENT
END:VCALENDAR