BEGIN:VCALENDAR
VERSION:2.0
PRODID:-//TSV Wain e.V. 1920 - ECPv6.15.20//NONSGML v1.0//EN
CALSCALE:GREGORIAN
METHOD:PUBLISH
X-WR-CALNAME:TSV Wain e.V. 1920
X-ORIGINAL-URL:https://www.tsv-wain.de
X-WR-CALDESC:Veranstaltungen für TSV Wain e.V. 1920
REFRESH-INTERVAL;VALUE=DURATION:PT1H
X-Robots-Tag:noindex
X-PUBLISHED-TTL:PT1H
BEGIN:VTIMEZONE
TZID:UTC
BEGIN:STANDARD
TZOFFSETFROM:+0000
TZOFFSETTO:+0000
TZNAME:UTC
DTSTART:20210101T000000
END:STANDARD
END:VTIMEZONE
BEGIN:VEVENT
DTSTART;TZID=UTC:20221226T140000
DTEND;TZID=UTC:20221226T160000
DTSTAMP:20260421T203712
CREATED:20221110T055616Z
LAST-MODIFIED:20221110T061100Z
UID:1190-1672063200-1672070400@www.tsv-wain.de
SUMMARY:Theatervorführung
DESCRIPTION:Generalprobe
URL:https://www.tsv-wain.de/event/theatervorfuehrung/
CATEGORIES:Theater,Veranstaltungen
END:VEVENT
END:VCALENDAR