BEGIN:VCALENDAR
VERSION:2.0
PRODID:-//TSV Wain e.V. 1920 - ECPv6.15.20//NONSGML v1.0//EN
CALSCALE:GREGORIAN
METHOD:PUBLISH
X-ORIGINAL-URL:https://www.tsv-wain.de
X-WR-CALDESC:Veranstaltungen für TSV Wain e.V. 1920
REFRESH-INTERVAL;VALUE=DURATION:PT1H
X-Robots-Tag:noindex
X-PUBLISHED-TTL:PT1H
BEGIN:VTIMEZONE
TZID:Europe/Berlin
BEGIN:DAYLIGHT
TZOFFSETFROM:+0100
TZOFFSETTO:+0200
TZNAME:CEST
DTSTART:20200329T010000
END:DAYLIGHT
BEGIN:STANDARD
TZOFFSETFROM:+0200
TZOFFSETTO:+0100
TZNAME:CET
DTSTART:20201025T010000
END:STANDARD
BEGIN:DAYLIGHT
TZOFFSETFROM:+0100
TZOFFSETTO:+0200
TZNAME:CEST
DTSTART:20210328T010000
END:DAYLIGHT
BEGIN:STANDARD
TZOFFSETFROM:+0200
TZOFFSETTO:+0100
TZNAME:CET
DTSTART:20211031T010000
END:STANDARD
BEGIN:DAYLIGHT
TZOFFSETFROM:+0100
TZOFFSETTO:+0200
TZNAME:CEST
DTSTART:20220327T010000
END:DAYLIGHT
BEGIN:STANDARD
TZOFFSETFROM:+0200
TZOFFSETTO:+0100
TZNAME:CET
DTSTART:20221030T010000
END:STANDARD
END:VTIMEZONE
BEGIN:VEVENT
DTSTART;VALUE=DATE:20211226
DTEND;VALUE=DATE:20211227
DTSTAMP:20260424T020347
CREATED:20201228T125708Z
LAST-MODIFIED:20201228T125708Z
UID:1057-1640476800-1640563199@www.tsv-wain.de
SUMMARY:Theateraufführung
DESCRIPTION:
URL:https://www.tsv-wain.de/event/theaterauffuehrung-4/
LOCATION:Mehrzweckhalle/Schule\, Schulstraße 7\, Wain\, 88489\, Deutschland
CATEGORIES:Theater,TSV-Wain,Veranstaltungen
GEO:48.18659;10.023
X-APPLE-STRUCTURED-LOCATION;VALUE=URI;X-ADDRESS=Mehrzweckhalle/Schule Schulstraße 7 Wain 88489 Deutschland;X-APPLE-RADIUS=500;X-TITLE=Schulstraße 7:geo:10.023,48.18659
END:VEVENT
END:VCALENDAR