BEGIN:VCALENDAR
VERSION:2.0
PRODID:-//TSV Wain e.V. 1920 - ECPv6.15.20//NONSGML v1.0//EN
CALSCALE:GREGORIAN
METHOD:PUBLISH
X-ORIGINAL-URL:https://www.tsv-wain.de
X-WR-CALDESC:Veranstaltungen für TSV Wain e.V. 1920
REFRESH-INTERVAL;VALUE=DURATION:PT1H
X-Robots-Tag:noindex
X-PUBLISHED-TTL:PT1H
BEGIN:VTIMEZONE
TZID:Europe/Berlin
BEGIN:DAYLIGHT
TZOFFSETFROM:+0100
TZOFFSETTO:+0200
TZNAME:CEST
DTSTART:20190331T010000
END:DAYLIGHT
BEGIN:STANDARD
TZOFFSETFROM:+0200
TZOFFSETTO:+0100
TZNAME:CET
DTSTART:20191027T010000
END:STANDARD
BEGIN:DAYLIGHT
TZOFFSETFROM:+0100
TZOFFSETTO:+0200
TZNAME:CEST
DTSTART:20200329T010000
END:DAYLIGHT
BEGIN:STANDARD
TZOFFSETFROM:+0200
TZOFFSETTO:+0100
TZNAME:CET
DTSTART:20201025T010000
END:STANDARD
BEGIN:DAYLIGHT
TZOFFSETFROM:+0100
TZOFFSETTO:+0200
TZNAME:CEST
DTSTART:20210328T010000
END:DAYLIGHT
BEGIN:STANDARD
TZOFFSETFROM:+0200
TZOFFSETTO:+0100
TZNAME:CET
DTSTART:20211031T010000
END:STANDARD
END:VTIMEZONE
BEGIN:VEVENT
DTSTART;TZID=Europe/Berlin:20200111T090000
DTEND;TZID=Europe/Berlin:20200111T130000
DTSTAMP:20260425T154327
CREATED:20191230T133559Z
LAST-MODIFIED:20191230T133559Z
UID:941-1578733200-1578747600@www.tsv-wain.de
SUMMARY:Junior Hallencup 2020 - C Jugend
DESCRIPTION:Gespielt wird nach den Regeln des WFV.
URL:https://www.tsv-wain.de/event/junior-hallencup-2020-c-jugend/
LOCATION:Mehrzweckhalle/Schule\, Schulstraße 7\, Wain\, 88489\, Deutschland
CATEGORIES:Fußball,TSV-Wain
GEO:48.18659;10.023
X-APPLE-STRUCTURED-LOCATION;VALUE=URI;X-ADDRESS=Mehrzweckhalle/Schule Schulstraße 7 Wain 88489 Deutschland;X-APPLE-RADIUS=500;X-TITLE=Schulstraße 7:geo:10.023,48.18659
END:VEVENT
BEGIN:VEVENT
DTSTART;TZID=Europe/Berlin:20200111T130000
DTEND;TZID=Europe/Berlin:20200111T170000
DTSTAMP:20260425T154327
CREATED:20191230T133705Z
LAST-MODIFIED:20191230T133705Z
UID:944-1578747600-1578762000@www.tsv-wain.de
SUMMARY:Junior Hallencup 2020 - E Jugend
DESCRIPTION:Gespielt wird nach den Regeln des WFV.
URL:https://www.tsv-wain.de/event/junior-hallencup-2020-e-jugend/
LOCATION:Mehrzweckhalle/Schule\, Schulstraße 7\, Wain\, 88489\, Deutschland
CATEGORIES:Fußball,TSV-Wain
GEO:48.18659;10.023
X-APPLE-STRUCTURED-LOCATION;VALUE=URI;X-ADDRESS=Mehrzweckhalle/Schule Schulstraße 7 Wain 88489 Deutschland;X-APPLE-RADIUS=500;X-TITLE=Schulstraße 7:geo:10.023,48.18659
END:VEVENT
END:VCALENDAR