BEGIN:VCALENDAR
VERSION:2.0
PRODID:-//TSV Wain e.V. 1920 - ECPv6.15.20//NONSGML v1.0//EN
CALSCALE:GREGORIAN
METHOD:PUBLISH
X-WR-CALNAME:TSV Wain e.V. 1920
X-ORIGINAL-URL:https://www.tsv-wain.de
X-WR-CALDESC:Veranstaltungen für TSV Wain e.V. 1920
REFRESH-INTERVAL;VALUE=DURATION:PT1H
X-Robots-Tag:noindex
X-PUBLISHED-TTL:PT1H
BEGIN:VTIMEZONE
TZID:Europe/Berlin
BEGIN:DAYLIGHT
TZOFFSETFROM:+0100
TZOFFSETTO:+0200
TZNAME:CEST
DTSTART:20180325T010000
END:DAYLIGHT
BEGIN:STANDARD
TZOFFSETFROM:+0200
TZOFFSETTO:+0100
TZNAME:CET
DTSTART:20181028T010000
END:STANDARD
BEGIN:DAYLIGHT
TZOFFSETFROM:+0100
TZOFFSETTO:+0200
TZNAME:CEST
DTSTART:20190331T010000
END:DAYLIGHT
BEGIN:STANDARD
TZOFFSETFROM:+0200
TZOFFSETTO:+0100
TZNAME:CET
DTSTART:20191027T010000
END:STANDARD
BEGIN:DAYLIGHT
TZOFFSETFROM:+0100
TZOFFSETTO:+0200
TZNAME:CEST
DTSTART:20200329T010000
END:DAYLIGHT
BEGIN:STANDARD
TZOFFSETFROM:+0200
TZOFFSETTO:+0100
TZNAME:CET
DTSTART:20201025T010000
END:STANDARD
END:VTIMEZONE
BEGIN:VEVENT
DTSTART;TZID=Europe/Berlin:20190831T183000
DTEND;TZID=Europe/Berlin:20190831T213000
DTSTAMP:20260425T223035
CREATED:20190820T112647Z
LAST-MODIFIED:20190820T112647Z
UID:865-1567276200-1567287000@www.tsv-wain.de
SUMMARY:Spanferkelessen 2019
DESCRIPTION:Auch dieses Jahr muss wieder eine Sau dran glauben. \nLeckeres Schwein am Spieß! \nWann: Samstag\, 31.08 2019 ab 18:30 Uhr \nWo: Sportplatz \nWer: Alle die sich ein saftiges Schwein gönnen mögen! \nKosten: Ist abhängig von Hunger und Durst! \nMitzubringen: Gute Laune und einen guten Appetit \nDas Spanferkelessen findet bei jeder Witterung statt.
URL:https://www.tsv-wain.de/event/spanferkelessen-2019/
LOCATION:Sportheim am Sportplatz\, Zieglerstraße 38\, Wain\, 88489\, Deutschland
CATEGORIES:Veranstaltungen
GEO:48.1823823;10.0110615
X-APPLE-STRUCTURED-LOCATION;VALUE=URI;X-ADDRESS=Sportheim am Sportplatz Zieglerstraße 38 Wain 88489 Deutschland;X-APPLE-RADIUS=500;X-TITLE=Zieglerstraße 38:geo:10.0110615,48.1823823
END:VEVENT
END:VCALENDAR